Workbook

Sheet PLAN
C2: LOTERÍA DE BOGOTÁ
C3: PLAN INSITUCIONAL DE CAPACITACION 2022
B4: GESTION / EJE | C4: ACTIVIDADES / DIMENSION | D4: TAREAS / CAPACITACION | E4: RESPONSABLE | F4: FECHAS PROGRAMADAS | H4: INDICADOR | J4: Seguimiento primer trimestre | K4: FECHA | L4: Seguimiento segundo trimestre | M4: FECHA | N4: FECHA | O4: Seguimiento cuarto trimestre | P4: FECHA | Q4: Avance Indicador Resultado | R4: Verifiacion Planeación | S4: Estado de la Acción | V4: Observaciones
F5: Fecha Inicial | G5: Fecha Final | H5: Formula | I5: Meta
B6: Gestión del conocimiento y la innovación | C6: Saber Hacer | D6: Prevención de riesgos laborales | E6: Unidad de Talento Humano | F6: 44621 | G6: 44926
D7: Capacitar en higiene postural | E7: Unidad de Talento Humano | F7: 44662 | G7: 44679
D8: Capacitación Levantamiento de cargas | E8: Unidad de Talento Humano | F8: 44805 | G8: 44834
D9: Funciones Copasst | E9: Unidad de Talento Humano | F9: 44743 | G9: 44772
D10: Identificacion de peligros | E10: Unidad de Talento Humano | F10: 44690 | G10: 44711
D11: Funciones a brigadistas | E11: Unidad de Talento Humano | F11: 44718 | G11: 44742
D12: Como atender una emergencia | E12: Unidad de Talento Humano | F12: 44743 | G12: 44772
D13: Redaccion y Texto, dirigida para 20 Funcionarios | E13: Unidad de Talento Humano | F13: 44713 | G13: 44895
D14: Creatividad - dirigida al area de Mercadeo y Comunicaciones | E14: Unidad de Talento Humano | F14: 44713 | G14: 44895
D15: Pausas activas - cognitivas | E15: Unidad de Talento Humano | F15: 44593 | G15: 44895
D16: Realizar la reinducción y al Sistema de Gestión de la Seguridad y Salud en el Trabajo. | E16: Unidad de Talento Humano | F16: 44682 | G16: 44711 | X16: Las ARL manejan capacitaciones divertidas que comparten con las entidades
D17: Brigadas de Emergencia (extinción de fuego, primeros auxilios y evacuación) | E17: Unidad de Talento Humano | F17: 44835 | G17: 44864
D18: Transferencias primarias (Por Áreas) | E18: Unidad de Talento Humano - Recursos Físicos | F18: 44682 | G18: 44742
D19: Aplicación Tablas de retención Documental (Por Áreas) | E19: Unidad de Talento Humano - Recursos Físicos | F19: 44621 | G19: 44742
D20: Programa de Gestión Documental | E20: Unidad de Talento Humano - Recursos Físicos | F20: 44713 | G20: 44803
D21: Capacitar en orden y aseo. | E21: Unidad de Talento Humano | F21: 44774 | G21: 44803
C22: Saber Ser | D22: Manejo del estrés | E22: Unidad de Talento Humano | F22: 44743 | G22: 44772
D23: Taller proyecto de vida y autoestima | E23: Unidad de Talento Humano | F23: 44835 | G23: 44864
D24: Comunicación asertiva | E24: Unidad de Talento Humano | F24: 44713 | G24: 44742
D25: Trabajo en equipo | E25: Unidad de Talento Humano | F25: 44621 | G25: 30.mar-2022
D26: Salud Visual | E26: Unidad de Talento Humano | F26: 44622 | G26: 30-mar-202
D27: Formas de interacción | E27: Unidad de Talento Humano | F27: 44501 | G27: 44530
D28: Estilos de vida saludable. | E28: Unidad de Talento Humano | F28: 44835 | G28: 44864
D29: Promoción y prevención en salud | E29: Unidad de Talento Humano | F29: 44621 | G29: 44926
B30: Creación del valor público | C30: Saber Hacer | D30: Derecho disciplinario | E30: Unidad de Talento Humano - Disciplinario | F30: 44562 | G30: 44592
D31: Actualización normativa en defensa jurídica | E31: Unidad de Talento Humano - Secretaría General | F31: 44593 | G31: 44926
D32: Contratación | E32: Unidad de Talento Humano - Secretaria General | F32: 44774 | G32: 44834
D33: Seguridad social | E33: Unidad de Talento Humano | F33: 44774 | G33: 44834
D34: SIPLAFT | E34: Unidad de Talento Humano - Oficial de cumplimiento | F34: 44805 | G34: 44895 | X34: En relación con las capacitaciones que se deben recibir e impartir por parte del Oficial de Cumplimiento, para la vigencia 2021 se dio cumplimiento al Artículo 15.3.1, 18.2.5 del Capítulo III del Acuerdo 574 de 2021 y al Título Primero Numeral I de la Circular 001 de 2021, ambos expedidos por el CNJSA. | Y34: Se realizo capacitacion a toda la planta de la entidad el jueves 09 de diciembre de 2021 y a la Junta Directiva el jueves 16 de diciembre de 2021
D35: MIPG | E35: Unidad de Talento Humano - Planeación | F35: 44805 | G35: 44895
D36: Procesos de auditorías de control interno efectivos, con apoyo en las tecnologías de la información | E36: Unidad de Talento Humano - | F36: 44562 | G36: 44926
D37: Normatividad Juegos de suerte y Azar | E37: Unidad de Talento Humano - Subgerencia General | F37: 44835 | G37: 44865
D38: Normatividad Contable | E38: Unidad de Talento Humano | F38: 44593 | G38: 44742
D39: Supervisión de Contratos | E39: Unidad de Talento Humano - Secretaria General | F39: 44774 | G39: 44834
C40: Saber ser | D40: Comunicación efectiva | E40: Unidad de Talento Humano | F40: 44866 | G40: 44895
D41: Servicio al ciudadano | E41: Unidad de Talento Humano | F41: 44774 | G41: 31/09/2021
...

Sheet ESTADO
A1: GESTION / EJE | B1: ACTIVIDADES / DIMENSION | C1: TAREAS / CAPACITACION | D1: Seguimiento primer trimestre | E1: Seguimiento segundo trimestre | F1: Seguimiento tercer trimestre | G1: Seguimiento cuarto trimestre | H1: Estado de la Acción
A3: =PLAN!B6 -> Gestión del conocimiento y la innovación | B3: =PLAN!C6 -> Saber Hacer | C3: =PLAN!D6 -> Prevención de riesgos laborales | D3: =PLAN!J6 -> 0 | G3: =PLAN!O6 -> 0 | H3: =PLAN!S6 -> 0 | I3: 44256 | J3: 44561
C4: =PLAN!D7 -> Capacitar en higiene postural | F4: =PLAN!L7 -> 0 | G4: =PLAN!O7 -> 0 | H4: =PLAN!S7 -> 0 | I4: 44348 | J4: 44377
C5: =PLAN!D8 -> Capacitación Levantamiento de cargas | F5: =PLAN!L8 -> 0 | G5: =PLAN!O8 -> 0 | H5: =PLAN!S8 -> 0 | I5: 44378 | J5: 44408
C6: =PLAN!D15 -> Pausas activas - cognitivas | G6: =PLAN!O15 -> 0 | H6: =PLAN!S15 -> 0 | I6: 44501 | J6: 44530
C7: =PLAN!D16 -> Realizar la reinducción y al Sistema de Gestión de la Seguridad y Salud en el Trabajo. | F7: =PLAN!L16 -> 0 | G7: =PLAN!O16 -> 0 | H7: =PLAN!S16 -> 0 | I7: 44256 | J7: 44561
C8: =PLAN!D17 -> Brigadas de Emergencia (extinción de fuego, primeros auxilios y evacuación) | G8: =PLAN!O17 -> 0 | H8: =PLAN!S17 -> 0 | I8: 44197 | J8: 44227
C9: =PLAN!D21 -> Capacitar en orden y aseo. | G9: =PLAN!O21 -> 0 | H9: =PLAN!S21 -> 0 | I9: 44409 | J9: 44469
B10: =PLAN!C22 -> Saber Ser | C10: =PLAN!D22 -> Manejo del estrés | G10: =PLAN!O22 -> 0 | H10: =PLAN!S22 -> 0 | I10: 44409 | J10: 44469
C11: =PLAN!D23 -> Taller proyecto de vida y autoestima | D11: =PLAN!J23 -> 0 | G11: =PLAN!O23 -> 0 | H11: =PLAN!S23 -> 0 | I11: 44501 | J11: 44530
C12: =PLAN!D24 -> Comunicación asertiva | G12: =PLAN!O24 -> 0 | H12: =PLAN!S24 -> 0 | I12: 44501 | J12: 44530
C13: =PLAN!D25 -> Trabajo en equipo | G13: =PLAN!O25 -> 0 | H13: =PLAN!S25 -> 0 | I13: 44317 | J13: 44347
C14: =PLAN!D27 -> Formas de interacción | G14: =PLAN!O27 -> 0 | H14: Finalizada | I14: 44317 | J14: 44347
C15: =PLAN!D28 -> Estilos de vida saludable. | D15: =PLAN!J28 -> 0 | G15: =PLAN!O28 -> 0 | H15: =PLAN!S28 -> 0 | I15: 44470 | J15: 44500
C16: =PLAN!D29 -> Promoción y prevención en salud | D16: =PLAN!J29 -> 0 | E16: =PLAN!#REF! -> #REF! | G16: =PLAN!O29 -> 0 | H16: =PLAN!S29 -> 0 | I16: 44409 | J16: 44469
A17: =PLAN!B30 -> Creación del valor público | B17: =PLAN!C43 -> Saber Hacer | C17: =PLAN!D30 -> Derecho disciplinario | D17: =PLAN!J30 -> 0 | E17: =PLAN!L36 -> 0 | G17: =PLAN!O30 -> 0 | H17: =PLAN!S30 -> 0 | I17: 44317 | J17: 44347
C18: =PLAN!D32 -> Contratación | D18: =PLAN!J32 -> 0 | G18: =PLAN!O32 -> 0 | H18: =PLAN!S32 -> 0 | I18: 44409 | J18: 31/09/2021
C19: =PLAN!D33 -> Seguridad social | D19: =PLAN!J33 -> 0 | G19: =PLAN!O33 -> 0 | H19: =PLAN!S33 -> 0 | I19: 44409 | J19: 31/09/2021
C20: =PLAN!D34 -> SIPLAFT | D20: =PLAN!J34 -> 0 | G20: =PLAN!O34 -> 0 | H20: =PLAN!S34 -> 0 | I20: 44409 | J20: 31/09/2021
C21: =PLAN!D35 -> MIPG | D21: =PLAN!J35 -> 0 | G21: =PLAN!O35 -> 0 | H21: =PLAN!S35 -> 0 | I21: 44409 | J21: 44439
C22: =PLAN!#REF! -> #REF! | D22: =PLAN!#REF! -> #REF! | F22: =PLAN!#REF! -> #REF! | G22: =PLAN!#REF! -> #REF! | H22: =PLAN!#REF! -> #REF! | I22: 44409 | J22: 44439
C23: =PLAN!D36 -> Procesos de auditorías de control interno efectivos, con apoyo en las tecnologías de la información | D23: =PLAN!J36 -> 0 | F23: =PLAN!L36 -> 0 | G23: =PLAN!O36 -> 0 | H23: =PLAN!S36 -> 0 | I23: 44440 | J23: 44469
C24: =PLAN!D37 -> Normatividad Juegos de suerte y Azar | D24: =PLAN!J37 -> 0 | E24: No se realizó capacitación en el segundo trimestre del año | G24: =PLAN!O37 -> 0 | H24: =PLAN!S37 -> 0 | I24: 44409 | J24: 31/09/2021
C25: =PLAN!D39 -> Supervisión de Contratos | D25: =PLAN!J39 -> 0 | G25: =PLAN!O39 -> 0 | H25: =PLAN!S39 -> 0 | I25: 44409 | J25: 31/09/2021
B26: =PLAN!C48 -> Saber ser | C26: =PLAN!D40 -> Comunicación efectiva | D26: =PLAN!J40 -> 0 | G26: =PLAN!O40 -> 0 | H26: =PLAN!S40 -> 0 | I26: 44531 | J26: 44561
C27: =PLAN!D41 -> Servicio al ciudadano | G27: =PLAN!O41 -> 0 | H27: =PLAN!S41 -> 0 | I27: 44317 | J27: 44347
A28: =PLAN!B42 -> Transformación digital | B28: =PLAN!C48 -> Saber ser | C28: =PLAN!D42 -> Apropiación y uso de la tecnología | G28: =PLAN!O42 -> 0 | H28: =PLAN!S42 -> 0 | I28: 44470 | J28: 44500
B29: =PLAN!C43 -> Saber Hacer | C29: =PLAN!D45 -> Actualización en herramientas ofimáticas | G29: =PLAN!O45 -> 0 | H29: =PLAN!S45 -> 0
C30: =PLAN!D46 -> Operación de sistemas de información y plataformas tecnológicas para la gestión de datos | G30: =PLAN!O46 -> 0 | H30: =PLAN!S46 -> 0
C31: =PLAN!D47 -> Seguridad digital | G31: =PLAN!O47 -> 0 | H31: =PLAN!S47 -> 0
B32: =PLAN!C48 -> Saber ser | C32: =PLAN!D48 -> Manejo del tiempo | G32: =PLAN!O48 -> 0 | H32: =PLAN!S48 -> 0
A33: =PLAN!B49 -> Probidad y ética de lo público | B33: =PLAN!C49 -> Compromiso participativo y democrático | C33: =PLAN!D49 -> Código de integridad | D33: =PLAN!J49 -> 0 | G33: =PLAN!O49 -> 0 | H33: =PLAN!S49 -> 0
C34: =PLAN!D51 -> Responsabilidad del servidor público | G34: =PLAN!O51 -> 0 | H34: =PLAN!S51 -> 0
C35: =PLAN!D52 -> Política anticorrupción | G35: =PLAN!O52 -> 0 | H35: =PLAN!S52 -> 0
B36: =PLAN!C53 -> Habilidades de transformación del conflicto | C36: =PLAN!D53 -> Acoso laboral | D36: =PLAN!J53 -> 0 | G36: =PLAN!O53 -> 0 | H36: =PLAN!S53 -> 0
B37: =PLAN!C54 -> Estrategias de comunicación y educación | C37: =PLAN!D54 -> Programación Neurolinguistica - Lenguaje no verbal | G37: =PLAN!O54 -> 0 | H37: =PLAN!S54 -> 0

Sheet PORCENTAJE
B4: Estado | C4: Cantidad | D4: % total actividades
B5: Retrasada | C5: 0 | D5: =+C5/C9 -> 0
B6: Finalizada | C6: 34 | D6: =+C6/C9 -> 0.97142857
B7: En Ejecución | C7: 1 | D7: =+C7/C9 -> 0.028571429
B8: No Iniciada | C8: 0 | D8: =+C8/C9 -> 0
B9: Total | C9: =SUM(C5:C8) -> 35 | D9: =SUM(D5:D8) -> 1
