Workbook

Sheet Listas
A1: Área de impacto | B1: Factor de riesgo | C1: Clasificación del riesgo | D1: Probabilidad | E1: Nivel de impacto | F1: Tipo de control | G1: Tipo de riesgo | H1: Documentación | I1: Frecuencia | J1: Tratamiento | K1: Activo de información | L1: Criterio afectado | M1: Procesos | N1: Afectación económica | O1: Afectación reputacional | P1: Interrupción de la operación | Q1: Periodicidad | R1: Materialización del riesgo
A2: Afectación económica | B2: Evento externo | C2: Daños a activos fijos / eventos externos | D2: Muy baja | E2: Leve | F2: Correctivo | G2: Ambiental | H2: Documentado | I2: Continua | J2: Aceptar | K2: Hardware | L2: Confidencialidad | M2: Atención y Servicio al Cliente | N2: Menor al 1% del patrimonio de la Lotería de Bogotá | O2: El riesgo afecta la imagen de algún área de la organización | P2: Interrupción de la operación por menos de un día | Q2: Diaria | R2: SÍ
A3: Afectación reputacional | B3: Financiero | C3: Ejecución y administración de procesos | D3: Baja | E3: Menor | F3: Detectivo | G3: Contractual | H3: Sin documentar | I3: Aleatoria | J3: Evitar | K3: Software | L3: Disponibilidad | M3: Control Disciplinario Interno | N3: Entre el 1% y el 3% del patrimonio de la Lotería de Bogotá | O3: El riesgo afecta la imagen de la entidad internamente, de conocimiento general nivel interno, de junta directiva y accionistas y/o de proveedores | P3: Interrupción de la operación por un día completo | Q3: Semanal | R3: NO
A4: Afectación económica y reputacional | B4: Infraestructura | C4: Fallas tecnológicas | D4: Media | E4: Moderado | F4: Preventivo | G4: Corrupción | J4: Mitigar | K4: Servicios | L4: Integridad | M4: Control, Inspección y Fiscalización | N4: Entre el 3% y el 6% del patrimonio de la Lotería de Bogotá | O4: El riesgo afecta la imagen de la entidad con algunos usuarios de relevancia frente al logro de los objetivos | P4: Interrupción de la operación mayor a 1 día y menor a 2 días | Q4: Mensual
B5: Procesos | C5: Fraude externo | D5: Alta | E5: Mayor | G5: Estratégico | J5: Reducir | K5: Documental | L5: NA | M5: Evaluación Independiente y Control a la Gestión | N5: Entre el 6% y el 10% del patrimonio de la Lotería de Bogotá | O5: El riesgo afecta la imagen de la entidad con efecto publicitario sostenido a nivel de sector administrativo, nivel departamental o municipal | P5: Interrupción de la operación por dos días completos | Q5: Bimestral
B6: Talento humano | C6: Fraude interno | D6: Muy alta | E6: Catastrófico | G6: Financiero | J6: Transferir | K6: NA | L6: Confidencialidad e integridad | M6: Explotación de JSA | N6: Mayor al 10% del patrimonio de la Lotería de Bogotá | O6: El riesgo afecta la imagen de la entidad a nivel nacional, con efecto publicitario sostenido a nivel país | P6: Interrupción de la operación por más de dos días | Q6: Trimestral
B7: Tecnología | C7: Relaciones laborales | G7: Gestión | K7: Hardware y software | M7: Gestión de Bienes y Servicios | N7: NA | O7: NA | P7: NA | Q7: Semestral
C8: Usuarios, productos y prácticas | G8: Procesos | K8: Hardware, software y servicios | M8: Gestión de Comunicaciones | Q8: Anual
C9: Fraude interno y externo | G9: Seguridad de la información | M9: Gestión del Talento Humano
G10: Seguridad y Salud en el Trabajo | M10: Gestión Documental
G11: Tecnológico | M11: Gestión Financiera y Contable
G12: Soborno | M12: Gestión Jurídica
G13: Protección de datos personales | M13: Gestión Tecnologías e Información
M14: Planeación y Direccionamiento Estratégico
M15: Recaudo

Sheet Control de cambios
B2: Control de cambios
B3: FECHA | C3: DESCRIPCIÓN Y JUSTIFICACIÓN DEL CAMBIO | G3: VERSIÓN
B4: 45322 | C4: Se aprueba la matriz de riesgos 2024 en su primera versión. | G4: 1
B6: Control de revisión y aprobación
B7: Consolidación | D7: Revisión | F7: Aprobación
B8: DAVID FERNANDO PINZÓN GALVIS Contratista Oficina de Asesora de Planeación | D8: OSCAR FABIAN MELO VARGAS Jefe Oficina Asesora de Planeación | F8: COMITÉ INSTITUCIONAL DE COORDINACIÓN DE CONTROL INTERNO

Sheet Fórmula
A1: Probabilidad | B1: Nivel de impacto | D1: Riesgo inherente | F1: Probabilidad | G1: % | H1: Nivel de impacto | I1: % | J1: Riesgo inherente | K1: %
A2: Muy baja | B2: Leve | C2: =+A2&B2 -> Muy bajaLeve | D2: Bajo | F2: Muy baja | G2: 0.2 | H2: Leve | I2: 0.2 | J2: Bajo
A3: Muy baja | B3: Menor | C3: =+A3&B3 -> Muy bajaMenor | D3: Bajo | F3: Baja | G3: 0.4 | H3: Menor | I3: 0.4 | J3: Alto
A4: Muy baja | B4: Moderado | C4: =+A4&B4 -> Muy bajaModerado | D4: Moderado | F4: Media | G4: 0.6 | H4: Moderado | I4: 0.6 | J4: Moderado
A5: Muy baja | B5: Mayor | C5: =+A5&B5 -> Muy bajaMayor | D5: Alto | F5: Alta | G5: 0.8 | H5: Mayor | I5: 0.8 | J5: Bajo
A6: Muy baja | B6: Catastrófico | C6: =+A6&B6 -> Muy bajaCatastrófico | D6: Extremo | F6: Muy alta | G6: 1 | H6: Catastrófico | I6: 1
A7: Baja | B7: Leve | C7: =+A7&B7 -> BajaLeve | D7: Bajo
A8: Baja | B8: Menor | C8: =+A8&B8 -> BajaMenor | D8: Moderado
A9: Baja | B9: Moderado | C9: =+A9&B9 -> BajaModerado | D9: Moderado
A10: Baja | B10: Mayor | C10: =+A10&B10 -> BajaMayor | D10: Alto
A11: Baja | B11: Catastrófico | C11: =+A11&B11 -> BajaCatastrófico | D11: Extremo
A12: Media | B12: Leve | C12: =+A12&B12 -> MediaLeve | D12: Moderado
A13: Media | B13: Menor | C13: =+A13&B13 -> MediaMenor | D13: Moderado
A14: Media | B14: Moderado | C14: =+A14&B14 -> MediaModerado | D14: Moderado
A15: Media | B15: Mayor | C15: =+A15&B15 -> MediaMayor | D15: Alto
A16: Media | B16: Catastrófico | C16: =+A16&B16 -> MediaCatastrófico | D16: Extremo
A17: Alta | B17: Leve | C17: =+A17&B17 -> AltaLeve | D17: Moderado
A18: Alta | B18: Menor | C18: =+A18&B18 -> AltaMenor | D18: Moderado
... A26: Muy alta | B26: Catastrófico | C26: =+A26&B26 -> Muy altaCatastrófico | D26: Extremo

Sheet Riesgos de Corrupción
A1: IDENTIFICACIÓN DEL RIESGO | U1: VALORACIÓN RIESGO INHERENTE | AC1: VALORACIÓN DE CONTROLES | AV1: RIESGO RESIDUAL
AC2: Control | AD2: Descripción del control | AE2: Atributos de eficiencia | AI2: Valoración control | AJ2: Atributos informativos | AU2: Riesgo residual | AX2: Tratamiento | AY2: Plan de Acción | BA2: Responsable | BB2: Fecha Inicio | BC2: Fecha Fin | BD2: Entregable | BE2: Seguimiento y monitoreo
A3: Objetivo Estratégico | B3: Proceso | C3: Tipo de riesgo | D3: Factor de riesgo | E3: Clasificación del riesgo | F3: Causas | G3: Descripción del riesgo | I3: Consecuencias | J3: Periodicidad | K3: Nivel de ocurrencia (Por año) | L3: Porcentaje de probabilidad | M3: Afectación económica | N3: % | O3: Afectación reputacional | P3: % | Q3: Interrupción de la operación | R3: % | S3: Activo de información afectado | T3: Criterio afectado | U3: % Impacto | V3: Probabilidad inherente | W3: % | X3: Impacto inherente | Y3: % | Z3: Zona de riesgo Inherente | AA3: % | AB3: Justificación de valoración en probabilidad e impacto | AE3: Tipo de control | AF3: Peso | AG3: Implementación | AH3: Peso | AJ3: ¿Información confiable? | AK3: Decisión sobre desviaciones | AM3: Documentación | AO3: Frecuencia | AQ3: Soporte | AR3: Responsable | AT3: ¿Tiene autoridad y función ? | BE3: Fecha de corte | BF3: Avance cualitativo | BG3: Fecha de corte | BH3: Avance cualitativo | BI3: Enlace de evidencias | BJ3: Fecha de corte | BK3: Avance cualitativo | BL3: Enlace de evidencias | BM3: Fecha de corte | BN3: Avance cualitativo | BO3: Enlace de evidencias | BP3: Fecha de corte | BQ3: Avance cualitativo | BR3: Enlace de evidencias | BS3: Fecha de corte | BT3: Avance cualitativo | BU3: Enlace de evidencias
A4: NO | B4: Explotación de JSA | C4: Corrupción | D4: Talento humano | E4: Fraude interno | F4: 1. Ofrecimiento de dádivas en el trámite. 2. Presiones indebidas de terceros. 3. Soportes del trámite incompletos, adulterados. | G4: RC-02 | H4: Posibilidad de afectación económica y reputacional por generar autorización de promocionales y rifas con incumplimiento de requisitos con el fin de beneficiar a un tercero | I4: 1. Demandas al proceso. 2. Procesos disciplinarios, fiscales y penales. | J4: Semanal | K4: 0 | L4: =IF(J4="Diaria",+(K4/360),IF(J4="Semanal",+(K4/52),IF(J4="Mensual",+(K4/12),IF(J4="Bimestral",+(K4/6),IF(J4="Trimestral",+(K4/4),IF(J4="Semestral",+(K4/2),IF(J4="Anual",+(K4/1),""))))))) -> 0 | M4: Menor al 1% del patrimonio de la Lotería de Bogotá | N4: =IF(M4="Menor al 1% del patrimonio de la Lotería de Bogotá",20%,IF(M4="Entre el 1% y el 3% del patrimonio de la Lotería de Bogotá",40%,IF(M4="Entre el 3% y el 6% del patrimonio de la Lotería de Bogotá",60%,IF(M4="Entre el 6% y el 10% del patrimonio de la Lotería de Bogotá",80%,IF(M4="Mayor al 10% del patrimonio de la Lotería de Bogotá",100%,IF(M4="NA",0%,"")))))) -> 0.2 | O4: El riesgo afecta la imagen de algún área de la organización | P4: =IF(O4="El riesgo afecta la imagen de algún área de la organización",20%,IF(O4="El riesgo afecta la imagen de la entidad internamente, de conocimiento general nivel interno, de junta directiva y accionistas y/o de proveedores",40%,IF(O4="El riesgo afecta la imagen de la entidad con algunos usuarios de relevancia frente al logro de los objetivos",60%,IF(O4="El riesgo afecta la imagen de la entidad con efecto publicitario sistenido a nivel de sector administrativo, nivel departamental o municipal",80%,IF(O4="El riesgo afecta la imagen de la entidad a nivel nacional, con efecto publicitario sistenido a nivel país",100%,IF(O4="NA",0%,"")))))) -> 0.2 | Q4: NA | R4: =IF(Q4="Interrupción de la operación por menos de un día",20%,IF(Q4="Interrupción de la operación por un día completo",40%,IF(Q4="Interrupción de la operación mayor a 1 día y menor a 2 días",60%,IF(Q4="Interrupción de la operación por dos días completos",80%,IF(Q4="Interrupción de la operación por más de dos días",100%,IF(Q4="NA",0%,"")))))) -> 0 | S4: Servicios | T4: Integridad | U4: =+MAX(N4,P4,R4) -> 0.2 | V4: =IF(L4<=20%,"Muy baja",IF(L4<=40%,"Baja",IF(L4<=60%,"Media",IF(L4<=80%,"Alta",IF(L4<=100%,"Muy alta",IF(L4>=100%,"Muy alta","")))))) -> Muy baja | W4: =+IFERROR(VLOOKUP(V4,Fórmula!$F$1:$G$6,2,FALSE),"") -> 0.2 | X4: Moderado | Y4: =+IFERROR(VLOOKUP(X4,Fórmula!$H$1:$I$6,2,FALSE),"") -> 0.6 | Z4: Moderado | AA4: =IF(Z4="Bajo",25%,IF(Z4="Moderado",50%,IF(Z4="Alto",75%,IF(Z4="Extremo",100%,"")))) -> 0.5 | AB4: En probabilidad se determina el riesgo de carácter semanal, y debido a que nunca se ha materializado, se califica su nivel de ocurrencia en cero. Frente al impacto económico y reputacional, en ambos casos es leve, según las escalas de valoración del impacto. | AC4: Revisión y validación de los documentos suministrados por el solicitante y verificar el cumplimiento de los requisitos exigidos por la ley | AD4: El profesional de la Unidad de Apuestas cada vez que se radica una solicitud debe revisar y validar cada uno de los documentos soporte de dicha solicitud. Esta revisión debe estar efectuada en terminos de completitud de acuerdo a la lista de chequeo vigente y en cuanto a su calidad se debe revisar los requisitos definidos en el marco legal y los expuestos en el respectivo instructivo. | AE4: Preventivo | AF4: =IF(AE4="Preventivo",25%,IF(AE4="Detectivo",15%,IF(AE4="Correctivo",10%,""))) -> 0.25 | AG4: Manual | AH4: =IF(AG4="Manual",15%,IF(AG4="Automático",25%,"")) -> 0.15 | AI4: =+AH4+AF4 -> 0.4 | AJ4: Confiable | AK4: SI | AL4: Si existen inconsistencias el profesional 3 de la unidad de apuestas debe requerir al solicitante las correcciones o aclaraciones pertinentes. | AM4: Documentado | AN4: Instructivo solicitud juegos promocionales y rifas (web) https://www.loteriadebogota.com/wp-content/uploads/files/promocionales/instructivo_solicitud.pdf Decreto 1068 de 2015 Decreto 2104 de 2016 Procedimiento autorización y emisión de concepto PRO-420-191-10 | AO4: Aleatoria | AP4: Cada vez que exista solicitud | AQ4: Plataforma de Juegos Promocionales y Rifas | AR4: Asignado | AS4: Profesional III de apuestas | AT4: Adecuado | AU4: =+AA4*AI4 -> 0.2 | AV4: =+AA4-AU4 -> 0.3 | AW4: =+IF(C4="Corrupción","Moderado",IF(#REF!<=25%,"Bajo",IF(#REF!<=50%,"Moderado",IF(#REF!<=75%,"Alto",IF(#REF!>75%,"Extremo",""))))) -> Moderado | AX4: Mitigar | AY4: 1 | AZ4: Desarrollar e implementar una mejora en el aplicativo de promocionales para que la revisión por parte de los funcionarios de la Lotería y los diferentes requerimientos al solicitante queden operados y registrados dentro del sistema o aplicativo. | BA4: =+AS4 -> Profesional III de apuestas | BB4: 44562 | BC4: 44742 | BD4: =+AQ4 -> Plataforma de Juegos Promocionales y Rifas | BE4: 44620 | BF4: La plataforma de Juegos Promocionales y Rifas a la fecha está presentando un incidente respecto al envío de correos a los gestores, lo que ocasiona que no se ejecute un cambio de estado automático después de subsanar los promocionales, se solicitó a la unidad de sistemas arreglo al incidente el cual no ha sido solucionado. | BG4: 44681 | BH4: La plataforma de Juegos Promocionales y Rifas sigue presistiendo los incidentes respecto al envío de correos a los gestores, lo que ocasiona que no se ejecute un cambio de estado automático después de subsanar los promocionales, se solicitó a la unidad de sistemas arreglo al incidente el cual no ha sido solucionado, tambien se solicito unos arrelglos para que el gestor puede hacer el cargue de actas en diferentes fechas de acuerdo a la cantidad de sorteos autorizados, a la fecha seguimos en espera de la respuesta . | BJ4: 44742 | BM4: 44804 | BN4: La unidad de apuesta conjunto con la unidad de sistemas realiza un informe con todas las anomalias y/o incidentes que se han venido presentando en el transcurso del año, a la fecha seguimos en la espera de respuestas y avances. | BO4: https://loteriadbogota-my.sharepoint.com/:f:/g/personal/administrativo_apuestas_loteriadebogota_com/EoS9TI0u7gNPu8SlfUIBc8EBUAzUAUptcMyNUEC-0uazYg?e=4tF8yP | BP4: 44865 | BQ4: La unidad de apuesta conjunto con la unidad de sistemas realiza un informe con todas las anomalias y/o incidentes que se han venido presentando en el transcurso del año, a la fecha seguimos en la espera de respuestas y avances. | BR4: https://loteriadbogota-my.sharepoint.com/:f:/g/personal/administrativo_apuestas_loteriadebogota_com/EoS9TI0u7gNPu8SlfUIBc8EBUAzUAUptcMyNUEC-0uazYg?e=4tF8yP | BS4: 44926
A5: SI | B5: Explotación de JSA | C5: Corrupción | D5: Evento externo | E5: Fraude externo | F5: 1. Inadecuados controles en el seguimiento de utilización de formularios 2. Posibilidad de fallas tecnológicas en el aplicativo de reporte en línea y tiempo real (Chanseguro) | G5: RC-03 | H5: Posibilidad de inadecuada utilización, pérdida y/o hurto de los formularios por parte del Concesionario con el fin de beneficio propio o de terceros | I5: 1. Aumento del juego ilegal 2. Disminución de recursos para la salud 3. Terminación anticipada del contrato de concesión | J5: Diaria | K5: 1 | L5: =IF(J5="Diaria",+(K5/360),IF(J5="Mensual",+(K5/12),IF(J5="Bimestral",+(K5/6),IF(J5="Trimestral",+(K5/4),IF(J5="Semestral",+(K5/2),IF(J5="Anual",+(K5/1),"")))))) -> 0.0027777778 | M5: Entre el 6% y el 10% del patrimonio de la Lotería de Bogotá | N5: =IF(M5="Menor al 1% del patrimonio de la Lotería de Bogotá",20%,IF(M5="Entre el 1% y el 3% del patrimonio de la Lotería de Bogotá",40%,IF(M5="Entre el 3% y el 6% del patrimonio de la Lotería de Bogotá",60%,IF(M5="Entre el 6% y el 10% del patrimonio de la Lotería de Bogotá",80%,IF(M5="Mayor al 10% del patrimonio de la Lotería de Bogotá",100%,IF(M5="NA",0%,"")))))) -> 0.8 | O5: El riesgo afecta la imagen de la entidad con algunos usuarios de relevancia frente al logro de los objetivos | P5: =IF(O5="El riesgo afecta la imagen de algún área de la organización",20%,IF(O5="El riesgo afecta la imagen de la entidad internamente, de conocimiento general nivel interno, de junta directiva y accionistas y/o de proveedores",40%,IF(O5="El riesgo afecta la imagen de la entidad con algunos usuarios de relevancia frente al logro de los objetivos",60%,IF(O5="El riesgo afecta la imagen de la entidad con efecto publicitario sistenido a nivel de sector administrativo, nivel departamental o municipal",80%,IF(O5="El riesgo afecta la imagen de la entidad a nivel nacional, con efecto publicitario sistenido a nivel país",100%,IF(O5="NA",0%,"")))))) -> 0.6 | Q5: NA | R5: =IF(Q5="Interrupción de la operación por menos de un día",20%,IF(Q5="Interrupción de la operación por un día completo",40%,IF(Q5="Interrupción de la operación mayor a 1 día y menor a 2 días",60%,IF(Q5="Interrupción de la operación por dos días completos",80%,IF(Q5="Interrupción de la operación por más de dos días",100%,IF(Q5="NA",0%,"")))))) -> 0 | S5: Servicios | T5: Integridad | U5: =+MAX(N5,P5,R5) -> 0.8 | V5: =IF(L5<=20%,"Muy baja",IF(L5<=40%,"Baja",IF(L5<=60%,"Media",IF(L5<=80%,"Alta",IF(L5<=100%,"Muy alta",IF(L5>=100%,"Muy alta","")))))) -> Muy baja | W5: =+IFERROR(VLOOKUP(V5,Fórmula!$F$1:$G$6,2,FALSE),"") -> 0.2 | X5: =IF(U5=20%,"Leve",IF(U5=40%,"Menor",IF(U5=60%,"Moderado",IF(U5=80%,"Mayor",IF(U5=100%,"Catastrófico",""))))) -> Mayor | Y5: =+IFERROR(VLOOKUP(X5,Fórmula!$H$1:$I$6,2,FALSE),"") -> 0.8 | Z5: =+IFERROR(VLOOKUP(V5&X5,Fórmula!$C$2:$D$26,2,FALSE),"") -> Alto | AA5: =IF(Z5="Bajo",25%,IF(Z5="Moderado",50%,IF(Z5="Alto",75%,IF(Z5="Extremo",100%,"")))) -> 0.75 | AB5: Se estableció periodicidad diaria, nivel de ocurrencia uno, ya que no se cuenta con línea base, afectación económica mayor, teniendo en cuenta la dificultad para cuantificar el mercado ilegal de juegos de suerte y azar, y afectación reputacional moderada, en tanto la imagen de la Lotería se vería afectada con algunos usuarios. | AC5: Solicitar al concesionario un reporte trimestral del listado de los formularios usados en otros productos y servicios | AD5: Trimestralmente, el profesional responsable de la Unidad de Apuestas Permanentes y Control de Juegos solicitará un reporte del listado de los formularios usados en otros productos y servicios, en el marco de las visitas de fiscalización. | AE5: Preventivo | AF5: =IF(AE5="Preventivo",25%,IF(AE5="Detectivo",15%,IF(AE5="Correctivo",10%,""))) -> 0.25 | AG5: Manual | AH5: =IF(AG5="Manual",15%,IF(AG5="Automático",25%,"")) -> 0.15 | AI5: =+AH5+AF5 -> 0.4 | AJ5: Confiable | AK5: SI | AL5: Si el concesionario no envía la información, se reitera la solicitud mediante oficio firmado por el supervisor del contrato | AM5: Documentado | AN5: Relación de documentos solicitados al concesionario, en las visitas de fiscalización | AO5: Continua | AP5: Trimestral | AQ5: Relación de documentos solicitados al concesionario, en las visitas de fiscalización | AR5: Asignado | AS5: Reponsable de la Unidad de Apuestas y Control de Juegos | AT5: Adecuado | AU5: =+AA5*AI5 -> 0.3 | AV5: =+AA5-AU5 -> 0.45 | AW5: =IF(AV5<=25%,"Bajo",IF(AV5<=50%,"Moderado",IF(AV5<=75%,"Alto",IF(AV5>75%,"Extremo","")))) -> Moderado | AX5: Mitigar | AY5: 1 | AZ5: Dejar evidencia en el informe de fiscalización de la información recibida por parte del concesionario frente al listado de los formularios usados en otros productos y servicios | BA5: Profesional unidad de apuestas | BB5: 44896 | BC5: 44926 | BD5: Informe de Fiscalización | BE5: 44620 | BF5: El Sistema de auditoría Chanseguro registra la transaccionalidad en línea y tiempo real de las operaciones del chance y sus modalidades. En información preliminar previo a la fiscalización se solicita la relación y soportes de denuncias ante las autoridades competentes sobre perdida y/o hurto de los formularios. Se pretende integrar las plataformas de impresión y despacho de formularios con la plataforma de Chanseguro y la información que suministre el concesionario con relación a los productos y servicios autorizados diferentes al chance. | BG5: 44681 | BH5: Se le solicita a concesionario la informacion previa a la fiscalizacion realizada en el mes de marzo con relacion a los soportes de denuncias ante las autoridades competentes sobre perdida y/o hurto de los formularios, al igual forma el Sistema de auditoría Chanseguro registra la transaccionalidad en línea y tiempo real de las operaciones del chance y sus modalidades, igualmente Se pretende integrar las plataformas de impresión y despacho de formularios con la plataforma de Chanseguro y la información que suministre el concesionario con relación a los productos y servicios autorizados diferentes al chance. | BJ5: 44742 | BM5: 44804 | BP5: 44865 | BQ5: Por tratarse de una actividad comercial independiente del contrato de Concesión 66 de 2021, la Loteria de Bogotá lleva el control general de la facturación de formularios utilizados en todos los productos del Concesionario. Se solicita excluir de la matriz este item, dado que no se tiene competencia sobre otros productos diferentes al Chance. | BR5: CONTROL VENTA DE FORMULARIOS APUESTAS CON UTILIDAD(1).xlsx | BS5: 44926
AC6: Reportar a la plataforma de auditoría la distribución y asignación de formularios | AD6: Diariamente, se debe llevar el registro de los formularios entregados desde las bodegas a los satélites, y de los satélites a los colocadores, incluidos los empleados, este reporte se debe realizar al sistema de auditoría del concedente. | AE6: Preventivo | AF6: =IF(AE6="Preventivo",25%,IF(AE6="Detectivo",15%,IF(AE6="Correctivo",10%,""))) -> 0.25 | AG6: Manual | AH6: =IF(AG6="Manual",15%,IF(AG6="Automático",25%,"")) -> 0.15 | AI6: =+AH6+AF6 -> 0.4 | AJ6: Confiable | AK6: SI | AL6: Si el concesionario no envía la información, se verifica que no se debe a una falla tecnológica interna de la Lotería de Bogotá, si no se debe a esto, se envía solicitud mediante oficio firmado por el supervisor del contrato al concesionario. | AM6: Documentado | AN6: Reporte generado por plataforma de auditoría | AO6: Continua | AP6: Diariamente | AQ6: Reporte generado por plataforma de auditoría | AR6: Asignado | AS6: Reponsable de la Unidad de Apuestas y Control de Juegos | AT6: Adecuado | AY6: 2 | AZ6: Dejar evidencia en el informe de fiscalización si el concesionario reportó a la plataforma de auditoría la distribución y asignación de formularios del juego de apuestas permanentes o chance | BA6: Profesional unidad de apuestas | BB6: 44896 | BC6: 44926 | BD6: Informe de Fiscalización | BE6: 44620 | BF6: A la fecha la plataforma Chanseguro tiene un modulo denominado “Trazabilidad Papelería” donde se pueden encontrar tres reportes a. “Papelería Venta Chance”; b. “Asignación Papelería”; c. “Movimientos Papelería”. d. “Detalle Consumible Tiquetes”. e. “Papelería Venta”. f. “Ventas por Tipo de Papel”. Con la información anterior se requiere que el sistema de auditoria confronte la información de cada uno de los formularios en sus diferentes estados: no utilizado, utilizado describiendo el producto o servicio, anulado, reportado perdido. El sistema deberá contar con alarmas en la que indique los formularios que no cuentan con descripción alguna. | BG6: 44681 | BH6: A la fecha la plataforma Chanseguro tiene un modulo denominado “Trazabilidad Papelería” donde se pueden encontrar tres reportes a. “Papelería Venta Chance”; b. “Asignación Papelería”; c. “Movimientos Papelería”. d. “Detalle Consumible Tiquetes”. e. “Papelería Venta”. f. “Ventas por Tipo de Papel”. Con la información anterior se requiere que el sistema de auditoria confronte la información de cada uno de los formularios en sus diferentes estados: no utilizado, utilizado describiendo el producto o servicio, anulado, reportado perdido. El sistema deberá contar con alarmas en la que indique los formularios que no cuentan con descripción alguna. | BJ6: 44742 | BM6: 44804 | BP6: 44865 | BQ6: Se realiza el seguimiento en las diferentes visitas de fiscalización y/o visitas especiales de auditoría. El concesionario transmite información permanente con relación a la asignación de formularios al sistema Chanseguro el cual dispone de un módulo de trazabilidad de papelería Se prevalida de forma mensual la cantidad de formularios utilizados por tipo de producto, una vez el concesionario suministra el formulario de declaración mensual de derechos de explotación y gastos de administración del chance. | BR6: https://chanseguro.loteriadebogota.com:9503/analytics/saw.dll?dashboard&PortalPath=%2Fshared%2FTrazabilidad%20Papeler%C3%ADa%2F_portal%2FTrazabilidad%20Papeler%C3%ADa | BS6: 44926
AC7: Solicitar al concesionario informar a la entidad concedente la pérdida y/o hurto de formulario, soportado con las denuncias ante entidades competentes | AD7: Trimestralmente, el profesional responsable de la Unidad de Apuestas Permanentes y Control de Juegos solicitará al concesionario informar a la entidad concedente la pérdida y/o hurto de formulario, soportado con las denuncias ante entidades competentes, en el marco de las visitas de fiscalización. | AE7: Preventivo | AF7: =IF(AE7="Preventivo",25%,IF(AE7="Detectivo",15%,IF(AE7="Correctivo",10%,""))) -> 0.25 | AG7: Manual | AH7: =IF(AG7="Manual",15%,IF(AG7="Automático",25%,"")) -> 0.15 | AI7: =+AH7+AF7 -> 0.4 | AJ7: Confiable | AK7: SI | AL7: Si el concesionario no envía la información, se reitera la solicitud mediante oficio firmado por el supervisor del contrato | AM7: Documentado | AN7: Relación de documentos solicitados al concesionario, en las visitas de fiscalización | AO7: Continua | AP7: Trimestral | AQ7: Relación de documentos solicitados al concesionario, en las visitas de fiscalización | AR7: Asignado | AS7: Reponsable de la Unidad de Apuestas y Control de Juegos | AT7: Adecuado | AY7: 3 | AZ7: Dejar evidencia en el informe de fiscalización si el concesionario reportó la pérdida y/o hurto de formularios del juego de apuestas permanentes o chance | BA7: Profesional unidad de apuestas | BB7: 44896 | BC7: 44926 | BD7: Informe de Fiscalización | BE7: 44620 | BF7: El concesionario entregó listado de la perdida de formularios del juego de apuestas permanentes o chance del 01 de octubre del 2021 al 03 de febrero 2022, junto con las denuncias, la información respectiva hace parte del último informe de fiscalización del contrato 068 del 2016, el cual la visita se realiza a principios de mes de marzo. | BG7: 44681 | BH7: El concesionario entregó listado de la perdida de formularios del juego de apuestas permanentes o chance del 01 de octubre del 2021 al 03 de febrero 2022, junto con las denuncias, la información respectiva hace parte del último informe de fiscalización del contrato 068 del 2016, el cual se vera evidenciado en el ultimo informe de fiscalizacion. | BJ7: 44742 | BM7: 44804 | BP7: 44865 | BQ7: Durante el desarrollo de las visitas administrativas al Concesionario, se requieren los soportes de las denuncias por pérdida y/o robo de rollos de formularios. Se tiene programada una visita administrativa en el mes de Noviembre a las instalaciones de GELSA | BS7: 44926
A8: SI | B8: Explotación de JSA | C8: Corrupción | D8: Talento humano | E8: Fraude interno | F8: 1.Inconsistencias en el reporte de retenidos generado semanalmente. 2. Estados de cuenta incorrectos o desactualizados 3. Ofrecimiento de beneficios por parte de terceros 4. Seguimiento inadecuado al estado de las pólizas | G8: RC-04 | H8: Posibilidad de afectación económica y reputacional por entrega o retención de billetería, o asignación de cupos a distribuidores con incumplimiento de requisitos con fin de favorecer a un tercero a cambio de beneficios. | I8: 1. Incremento de cartera vencida 2. Pérdida de garantías en un cobro jurídico 3. Apertura de procesos disciplinarios 4. Hallazgos de entes de control | J8: Semanal | K8: 1 | L8: =IF(J8="Diaria",+(K8/360),IF(J8="Mensual",+(K8/12),IF(J8="Semanal",+(K8/52),IF(J8="Bimestral",+(K8/6),IF(J8="Trimestral",+(K8/4),IF(J8="Semestral",+(K8/2),IF(J8="Anual",+(K8/1),""))))))) -> 0.019230769 | M8: Menor al 1% del patrimonio de la Lotería de Bogotá | N8: =IF(M8="Menor al 1% del patrimonio de la Lotería de Bogotá",20%,IF(M8="Entre el 1% y el 3% del patrimonio de la Lotería de Bogotá",40%,IF(M8="Entre el 3% y el 6% del patrimonio de la Lotería de Bogotá",60%,IF(M8="Entre el 6% y el 10% del patrimonio de la Lotería de Bogotá",80%,IF(M8="Mayor al 10% del patrimonio de la Lotería de Bogotá",100%,IF(M8="NA",0%,"")))))) -> 0.2 | O8: El riesgo afecta la imagen de la entidad internamente, de conocimiento general nivel interno, de junta directiva y accionistas y/o de proveedores | P8: =IF(O8="El riesgo afecta la imagen de algún área de la organización",20%,IF(O8="El riesgo afecta la imagen de la entidad internamente, de conocimiento general nivel interno, de junta directiva y accionistas y/o de proveedores",40%,IF(O8="El riesgo afecta la imagen de la entidad con algunos usuarios de relevancia frente al logro de los objetivos",60%,IF(O8="El riesgo afecta la imagen de la entidad con efecto publicitario sistenido a nivel de sector administrativo, nivel departamental o municipal",80%,IF(O8="El riesgo afecta la imagen de la entidad a nivel nacional, con efecto publicitario sistenido a nivel país",100%,IF(O8="NA",0%,"")))))) -> 0.4 | Q8: NA | R8: =IF(Q8="Interrupción de la operación por menos de un día",20%,IF(Q8="Interrupción de la operación por un día completo",40%,IF(Q8="Interrupción de la operación mayor a 1 día y menor a 2 días",60%,IF(Q8="Interrupción de la operación por dos días completos",80%,IF(Q8="Interrupción de la operación por más de dos días",100%,IF(Q8="NA",0%,"")))))) -> 0 | S8: Servicios | T8: Integridad | U8: =+MAX(N8,P8,R8) -> 0.4 | V8: =IF(L8<=20%,"Muy baja",IF(L8<=40%,"Baja",IF(L8<=60%,"Media",IF(L8<=80%,"Alta",IF(L8<=100%,"Muy alta",IF(L8>=100%,"Muy alta","")))))) -> Muy baja | W8: =+IFERROR(VLOOKUP(V8,Fórmula!$F$1:$G$6,2,FALSE),"") -> 0.2 | X8: Moderado | Y8: =+IFERROR(VLOOKUP(X8,Fórmula!$H$1:$I$6,2,FALSE),"") -> 0.6 | Z8: Moderado | AA8: =IF(Z8="Bajo",25%,IF(Z8="Moderado",50%,IF(Z8="Alto",75%,IF(Z8="Extremo",100%,"")))) -> 0.5 | AB8: Se estableció la periodicidad semanal, debido a que la distribución de la billetería se realiza semanalmente, y nivel de ocurrencia 1, porque el riesgo se materializó una vez en la vigencia 2020. Frente al impacto, se definió una afectación económica por debajo del 1% del patrimonio de la Lotería de Bogotá (leve), pero la materialización del riesgo conllevaría a una afectación reputacional menor, debido al conocimiento de la Junta Directiva sobre la afectación de la imagen. | AC8: Reporte semanal por parte de la Unidad Financiera y Contable de los distribuidotres retenidos. | AD8: El profesional de cartera semanalmente realiza una revisión de los reportes de cartera y del estado de las garantías de los distribuidores con el propósito de identificar incumplimientos en los distribuidores para determinar a cuales de ellos se reteniene el despacho de billetería. | AE8: Preventivo | AF8: =IF(AE8="Preventivo",25%,IF(AE8="Detectivo",15%,IF(AE8="Correctivo",10%,""))) -> 0.25 | AG8: Manual | AH8: =IF(AG8="Manual",15%,IF(AG8="Automático",25%,"")) -> 0.15 | AI8: =+AH8+AF8 -> 0.4 | AJ8: Confiable | AK8: SI | AL8: Los distribuidores con incumplimiento en sus garantías y/o pagos deben ser retenidos. No se debe realizar el despacho semanal de billetería | AM8: Documentado | AN8: Procedimiento Asignación y Distribución de Billetería PRO-410-199-9 | AO8: Continua | AP8: Semanal | AQ8: Memorandos sobre distribución y retención por parte de la Unidad Financiera | AR8: Asignado | AS8: Profesional de cartera de Unidad Financiera y Contable | AT8: Adecuado | AU8: =+AA8*AI8 -> 0.2 | AV8: =+AA8-AU8 -> 0.3 | AW8: =+IF(C8="Corrupción","Moderado",IF(AV9<=25%,"Bajo",IF(AV9<=50%,"Moderado",IF(AV9<=75%,"Alto",IF(AV9>75%,"Extremo",""))))) -> Moderado | AX8: Mitigar | AY8: 1 | AZ8: Actualizar el procedimiento de Asignación y distribución de billetería para fortalecer en descripción de criterios y lineamientos los controles del procedimiento e incorporar control correctivo de autorización de despacho. Procedimiento Gestión de Cartera PRO-310-244 Este procedimiento debe ser revisado con cartera y actualizar retención de distribuidores virtuales Contrato atípico | BA8: Profesional de Cartera | BB8: 44766 | BC8: 44865 | BD8: Procedimiento asignación y distribución de billetería PRO-410-199 | BE8: 44620 | BF8: el procedimiento para la asignacion de de billeteria, se realiza de acuerdo a la billeteria solicitada por el distribuidor, por las garantias y polizas que cubran el despcho de billeteria y por el comite de cupos que se reune mensualmente para el estudio para el aumento o diminucion del despacho de billeteria, la distribucion se realiza mediante contrato con la firma transportadota Thomas Grec, y con visto bueno del profesional de cartera, donde indique los distribuidores que estan al dia con obligaciones del pago de billeteria y cargue de premios. | BG8: 44681 | BH8: el procedimiento para la asignacion de de billeteria, se realiza de acuerdo a la billeteria solicitada por el distribuidor, por las garantias y polizas que cubran el despcho de billeteria y por el comite de cupos que se reune mensualmente para el estudio para el aumento o diminucion del despacho de billeteria, la distribucion se realiza mediante contrato con la firma transportadota Thomas Grec, y con visto bueno del profesional de cartera, donde indique los distribuidores que estan al dia con obligaciones del pago de billeteria y cargue de premios. | BI8: Se encuentran en fisico y en el sistema los formatos respectivos de despacho y retencion de billeteria, asi como las actas del comite de cupos. | BJ8: 44742 | BK8: el procedimiento para la asignacion de de billeteria, se realiza de acuerdo a la billeteria solicitada por el distribuidor, por las garantias y polizas que cubran el despcho de billeteria y por el comite de cupos que se reune mensualmente para el estudio para el aumento o diminucion del despacho de billeteria, la distribucion se realiza mediante contrato con la firma transportadota Thomas Grec, y con visto bueno del profesional de cartera, donde indique los distribuidores que estan al dia con obligaciones del pago de billeteria y cargue de premios. | BL8: Se encuentran en fisico y en el sistema los formatos respectivos de despacho y retencion de billeteria, asi como las actas del comite de cupos. | BM8: 44804 | BN8: el procedimiento para la asignacion de de billeteria, se realiza de acuerdo a la billeteria solicitada por el distribuidor, por las garantias y polizas que cubran el despcho de billeteria y por el comite de cupos que se reune mensualmente para el estudio para el aumento o diminucion del despacho de billeteria, la distribucion se realiza mediante contrato con la firma transportadota Thomas Grec, y con visto bueno del profesional de cartera, donde indique los distribuidores que estan al dia con obligaciones del pago de billeteria y cargue de premios. | BO8: Se encuentran en fisico y en el sistema los formatos respectivos de despacho y retencion de billeteria, asi como las actas del comite de cupos. | BP8: 44865 | BQ8: el procedimiento para la asignacion de de billeteria, se realiza de acuerdo a la billeteria solicitada por el distribuidor, por las garantias y polizas que cubran el despcho de billeteria y por el comite de cupos que se reune mensualmente para el estudio para el aumento o diminucion del despacho de billeteria, la distribucion se realiza mediante contrato con la firma transportadota Thomas Grec, y con visto bueno del profesional de cartera, donde indique los distribuidores que estan al dia con obligaciones del pago de billeteria y cargue de premios. | BR8: Se encuentran en fisico y en el sistema los formatos respectivos de despacho y retencion de billeteria, asi como las actas del comite de cupos. | BS8: 44926
AC9: Reporte semanal por parte de la Unidad de Loterías de las garantías. | AD9: El profesional de la Unidad de Loterías semanalmente realiza una revisión del estado de las garantías de los distribuidores con el propósito de identificar incumplimientos en los distribuidores para determinar a cuales de ellos se reteniene el despacho de billetería. | AE9: Preventivo | AF9: =IF(AE9="Preventivo",25%,IF(AE9="Detectivo",15%,IF(AE9="Correctivo",10%,""))) -> 0.25 | AG9: Manual | AH9: =IF(AG9="Manual",15%,IF(AG9="Automático",25%,"")) -> 0.15 | AI9: =+AH9+AF9 -> 0.4 | AJ9: Confiable | AK9: SI | AL9: Los distribuidores con incumplimiento en sus garantías y/o pagos deben ser retenidos. No se debe realizar el despacho semanal de billetería | AM9: Documentado | AN9: Procedimiento Asignación y Distribución de Billetería PRO-410-199-9 | AO9: Continua | AP9: Semanal | AQ9: Correo electrónico sobre la retención de billetería por garantía | AR9: Asignado | AS9: Profesional de la Unidad de Loterías | AT9: Adecuado | AU9: =+AV8*AI9 -> 0.12 | AV9: =+AV8-AU9 -> 0.18 | AY9: 2 | AZ9: Actualizar el procedimiento de gestión de cartera para fortalecer en la descripción de criterios y lineamientos los controles e incorporar con claridad el Concepto de la Secertaría General sobre el estado de las garantias de los distribuidores. Analizar, definir y documentar los lineamientos claros del concepto semanal del estado de las ganatias por parte de la Secretaría General. Se debe incorporar lineamientos de responsabilidad, frecuencia, horario, medios, soporte en ausencias. Debe cambiarse el concepto de proporcionar un listado, por el de generar un concepto sobre el estado de las garantías con el fin que dentro de su campo y rol efectue un análisis y genere alertas sobre vencimientos. El memorando UF debe remitir antes 3:30 pm., así mismo el jefe de unidad Loterias debe revisar previo al despacho | BA9: Secretaria General | BB9: 44774 | BC9: 44864 | BD9: Procedimiento de cartera actualizado | BE9: 44620 | BG9: 44681 | BH9: Se estan realizando mediante el comite de cupos, el cual es integrado por el subgerente general, la jefe de unidad de loterias, el jefe de launidad financiera y con voz pero sin voto la profesional especializada de sistemas, este comite tiene la responsabilidad de la asignacion o disminucion segun sea el caso de los distribuidores. | BI9: Se estan realizando mediante el comite de cupos, el cual es integrado por el subgerente general, la jefe de unidad de loterias, el jefe de launidad financiera y con voz pero sin voto la profesional especializada de sistemas, este comite tiene la responsabilidad de la asignacion o disminucion segun sea el caso de los distribuidores. | BJ9: 44742 | BK9: Se estan realizando mediante el comite de cupos, el cual es integrado por el subgerente general, la jefe de unidad de loterias, el jefe de launidad financiera y con voz pero sin voto la profesional especializada de sistemas, este comite tiene la responsabilidad de la asignacion o disminucion segun sea el caso de los distribuidores. | BL9: Se cuentan con las actas del comite en fisico. | BM9: 44804 | BN9: Se estan realizando mediante el comite de cupos, el cual es integrado por el subgerente general, la jefe de unidad de loterias, el jefe de launidad financiera y con voz pero sin voto la profesional especializada de sistemas, este comite tiene la responsabilidad de la asignacion o disminucion segun sea el caso de los distribuidores. | BO9: Se cuentan con las actas del comite en fisico. | BP9: 44865 | BQ9: Para el bimestre septiembre, octubre se realizaros dos reuniones del comite de cupos, | BR9: Se cuentan con las actas del comite en fisico. | BS9: 44926
A10: SI | B10: Recaudo | C10: Corrupción | D10: Talento humano | E10: Fraude interno | F10: 1. Oportunidad y razonalización de la situación por parte del profesional de Cartera 2. Ofrecimiento de retribución económica para despacho sin cumplimiento de requisitos 3. Falta de ética profesional del profesional de cartera | G10: RC-05 | H10: Posibilidad de afectación económica y reputacional por despacho a distribuidores sin cumplimiento de requisitos con el fin de beneficio propio o de terceros, a causa de la oportunidad y razonalizacion de la situacion por parte del profesional de Cartera ; Ofrecimiento de retribucion economica para despacho sin cumplimiento de requisitos : Falta de Etica profesional del Profesional de Cartera | I10: 1. Incremento de cartera 2. Investigaciones disciplinarias y judiciales | J10: Diaria | K10: 0 | L10: =IF(J10="Diaria",+(K10/360),IF(J10="Mensual",+(K10/12),IF(J10="Bimestral",+(K10/6),IF(J10="Trimestral",+(K10/4),IF(J10="Semestral",+(K10/2),IF(J10="Anual",+(K10/1),"")))))) -> 0 | M10: Menor al 1% del patrimonio de la Lotería de Bogotá | N10: =IF(M10="Menor al 1% del patrimonio de la Lotería de Bogotá",20%,IF(M10="Entre el 1% y el 3% del patrimonio de la Lotería de Bogotá",40%,IF(M10="Entre el 3% y el 6% del patrimonio de la Lotería de Bogotá",60%,IF(M10="Entre el 6% y el 10% del patrimonio de la Lotería de Bogotá",80%,IF(M10="Mayor al 10% del patrimonio de la Lotería de Bogotá",100%,IF(M10="NA",0%,"")))))) -> 0.2 | O10: El riesgo afecta la imagen de la entidad internamente, de conocimiento general nivel interno, de junta directiva y accionistas y/o de proveedores | P10: =IF(O10="El riesgo afecta la imagen de algún área de la organización",20%,IF(O10="El riesgo afecta la imagen de la entidad internamente, de conocimiento general nivel interno, de junta directiva y accionistas y/o de proveedores",40%,IF(O10="El riesgo afecta la imagen de la entidad con algunos usuarios de relevancia frente al logro de los objetivos",60%,IF(O10="El riesgo afecta la imagen de la entidad con efecto publicitario sistenido a nivel de sector administrativo, nivel departamental o municipal",80%,IF(O10="El riesgo afecta la imagen de la entidad a nivel nacional, con efecto publicitario sistenido a nivel país",100%,IF(O10="NA",0%,"")))))) -> 0.4 | Q10: NA | R10: =IF(Q10="Interrupción de la operación por menos de un día",20%,IF(Q10="Interrupción de la operación por un día completo",40%,IF(Q10="Interrupción de la operación mayor a 1 día y menor a 2 días",60%,IF(Q10="Interrupción de la operación por dos días completos",80%,IF(Q10="Interrupción de la operación por más de dos días",100%,IF(Q10="NA",0%,"")))))) -> 0 | S10: Documental | T10: Integridad | U10: =+MAX(N10,P10,R10) -> 0.4 | V10: =IF(L10<=20%,"Muy baja",IF(L10<=40%,"Baja",IF(L10<=60%,"Media",IF(L10<=80%,"Alta",IF(L10<=100%,"Muy alta",IF(L10>=100%,"Muy alta","")))))) -> Muy baja | W10: =+IFERROR(VLOOKUP(V10,[1]Fórmula!$F$1:$G$6,2,FALSE),"") -> 0.2 | X10: Moderado | Y10: =+IFERROR(VLOOKUP(X10,[1]Fórmula!$H$1:$I$6,2,FALSE),"") -> 0.6 | Z10: Moderado | AA10: =IF(Z10="Bajo",25%,IF(Z10="Moderado",50%,IF(Z10="Alto",75%,IF(Z10="Extremo",100%,"")))) -> 0.5 | AB10: Se estableció periodicidad diaria, debido a que el despacho se realiza con esta periodicidad, nivel de ocurrencia en cero, debido a que el riesgo no se ha materializado, afectación económica leve, ya que el valor en el peor caso de materializarse el riesgo estaría por debajo del 1% del patrimonio de la Lotería de Bogotá. Frente a la afectación reputacional es menor, debido a la iimagen afectada de la organización de manera interna. | AC10: Constatar en forma preliminar la conciliacion efectuadas ppr parte de los distribuidores de las entidad con el fin de identificar recaudos que no se hayan cargado al aplicativo por las diferente razones que puedan darse lo que permite llegar a fin de mes con un conciliacion mas limpia. | AE10: Preventivo | AF10: =IF(AE10="Preventivo",25%,IF(AE10="Detectivo",15%,IF(AE10="Correctivo",10%,""))) -> 0.25 | AG10: Manual | AH10: =IF(AG10="Manual",15%,IF(AG10="Automático",25%,"")) -> 0.15 | AI10: =+AH10+AF10 -> 0.4 | AJ10: Confiable | AK10: SI | AL10: En caso de que los valores de las conciliaciones no concuerdan, se realizan los ajustes correspondientes con las áreas responsables. | AM10: Sin documentar | AO10: Continua | AP10: Mensual | AQ10: Conciliación realizada | AR10: Asignado | AS10: Conciliaciones bancarias: Profesional del área de Contabilidad Conciliaciones de premios: Responsable de Unidad de Loterías y profesional de Cartera | AT10: Adecuado | AU10: =+AA10*AI10 -> 0.2 | AV10: =+AA10-AU10 -> 0.3 | AW10: =+IF(C10="Corrupción","Moderado",IF(AV10<=25%,"Bajo",IF(AV10<=50%,"Moderado",IF(AV10<=75%,"Alto",IF(AV10>75%,"Extremo",""))))) -> Moderado | AX10: Mitigar | AY10: 1 | AZ10: Actualizar el procedimiento PRO-310-244 Gestión de Cartera, para incluir lo relacionado con conciliaciones, de manuera mensual y todo se reportar por correo al sistema de informacion contable | BA10: Profesional de Cartera | BB10: 44876 | BC10: 44926 | BD10: Procedimiento actualizado | BE10: 44620 | BF10: Se revisó el procedimiento , y se envio el reporte a control interno del mes de febrero 28 2022 | BG10: 44681 | BH10: Se actualizó el procedimeinto. Se presentó al CIGYD y se aprobó el 1 de abril | BI10: https://loteriadbogota-my.sharepoint.com/:x:/g/personal/paula_forero_loteriadebogota_com/EU99GsN1HJFDiVgHRA2Uu0AB1teJ54AWpbRZyTm9kxQTug?e=9Bn0h8 | BJ10: 44742 | BK10: I. No se ha reportado novedad sobre este procedimeinto hasta el mes de Agosto 2022 | BL10: N/A | BM10: 44804 | BN10: I. No se ha reportado ninguna novedad sobre este prcedimeinto hasta el mes de octubre 2022 | BO10: N/A | BP10: 44865 | BS10: 44926
A11: NO | B11: Gestión del Talento Humano | C11: Corrupción | D11: Talento humano | E11: Ejecución y administración de procesos | F11: 1. Fácil acceso a plantilla institucional de documentos de la entidad, posibilitando la realización de certificados con información falsa. 2. Intereses indebidos para la expedición de certificados | G11: RC-06 | H11: Posibilidad de afectación reputacional por expedición de certificados laborales con información falsa por un funcionario de la Unidad de Talento Humano con el fin de beneficio propio o de un tercero | I11: 1. Pérdida de credibilidad ante agentes externos. 2. Investigaciones disciplinarias y penales | J11: Diaria | K11: 0 | L11: 0 | M11: NA | N11: 0 | O11: El riesgo afecta la imagen de algún área de la organización | P11: 0.2 | Q11: NA | R11: 0 | S11: NA | T11: Integridad | U11: Verificación de soportes para la expedición de certificados laborales | V11: El responsable de expedición de certificados proyecta el documento para firma de la Jefe de la Unidad de Talento Humano con los soportes correspondientes, cada vez que sea requerido. | W11: Preventivo | X11: 0.25 | Y11: Manual | Z11: 0.15 | AA11: 0.4 | AB11: Confiable | AC11: NO | AE11: Sin documentar | AG11: 1 | AH11: Documentar el proceso de expedición de certificados laborales. | AI11: 44805 | AJ11: 44925 | AL11: 44620 | AN11: a | AO11: Se cumplió a corte 31 de enero de 2022. | AQ11: 44742 | AR11: Para la expedicion de certificaciones laborales se tiene el formato FR0320-69-2 donde el servidor debe hacer la debida solicitud presentando este formato a la Unidad de Talento Humano, donde conste su informacion y los requisitos que debe llevar el certificado a expedir, posterior a esto se realiza y como paso final la Jefe de Talento Humano debe verificar y validar la informacion, para proceder a firmar y hacer entrega al servidor. | AS11: Formato FR0320-69-2 | AT11: 44804 | AU11: Para la expedicion de certificaciones laborales se tiene el formato FR0320-69-2 donde el servidor debe hacer la debida solicitud presentando este formato a la Unidad de Talento Humano, donde conste su informacion y los requisitos que debe llevar el certificado a expedir, posterior a esto se realiza y como paso final la Jefe de Talento Humano debe verificar y validar la informacion, para proceder a firmar y hacer entrega al servidor. | AV11: Formato FR0320-69-2 | AW11: 44865 | AX11: Para la expedicion de certificaciones laborales se tiene el formato FR0320-69-2 donde el servidor debe hacer la debida solicitud presentando este formato a la Unidad de Talento Humano, donde conste su informacion y los requisitos que debe llevar el certificado a expedir, posterior a esto se realiza y como paso final la Jefe de Talento Humano debe verificar y validar la informacion, para proceder a firmar y hacer entrega al servidor. | AY11: Formato FR0320-69-2 | AZ11: 44926
A12: NO | B12: Gestión del Talento Humano | C12: Corrupción | D12: Talento humano | E12: Ejecución y administración de procesos | F12: 1. Vulneribilidad del Sistema administrativo, financiero y misional. 2. Fallas en el Sistema administrativo, financiero y misional. | G12: RC-07 | H12: Posibilidad de afectación económica y reputacional debido a liquidación errónea de la nómina con el fin de beneficio propio o de un tercero | I12: 1. Investigaciones disciplinarias. 2. Investigaciones penales. 3. Investigaciones fiscales. | J12: Mensual | K12: 0 | L12: 0 | M12: Menor al 1% del patrimonio de la Lotería de Bogotá | N12: 0.2 | O12: El riesgo afecta la imagen de la entidad internamente, de conocimiento general nivel interno, de junta directiva y accionistas y/o de proveedores | P12: 0.4 | Q12: NA | R12: 0 | S12: NA | T12: Integridad | U12: Revisión por parte del Jefe de la Unidad de Talento Humano de la prenómina | V12: El Profesional de nómina mensualmente debe enviar a revisión del Jefe de la Unidad de Talento Humano la prenómina con los soportes correspondientes. | W12: Preventivo | X12: 0.25 | Y12: Manual | Z12: 0.15 | AA12: 0.4 | AB12: Confiable | AC12: SI | AD12: 0 | AE12: Documentado | AF12: Procedimiento liquidación nómina PRO.320-221-8. | AG12: 1 | AI12: 44562 | AJ12: 44925 | AK12: Procedimiento actualizado | AL12: 44620 | AM12: Se realizó encuesta para determinar las necesidades de los servidores y se aprobó el plan institucional en el CIGYD el 31 de enero de 2022. | AN12: a | AO12: Se cumplió a corte 31 de enero de 2022. | AQ12: 44742 | AR12: La Jefe de la Unidad de Talento Humano realiza el debido proceso de revisar todas las novedades de la nomina, asi mismo revisa y verifica los soportes de la prenomia enviados a Secretaria General para aprobacion. | AS12: Carpeta física con prenomina | AT12: 44804 | AU12: La Jefe de la Unidad de Talento Humano realiza el debido proceso de revisar todas las novedades de la nomina, asi mismo revisa y verifica los soportes de la prenomia enviados a Secretaria General para aprobacion. | AV12: Carpeta física con prenomina | AW12: 44865 | AX12: La Jefe de la Unidad de Talento Humano realiza el debido proceso de revisar todas las novedades de la nomina, asi mismo revisa y verifica los soportes de la prenomia enviados a Secretaria General para aprobacion. | AY12: Carpeta física con prenomina | AZ12: 44926
U13: Enviar a revisión con los soportes correspondientes la prenómina a Secretaría General | V13: El Profesional de nómina, previa validación por parte del Jefe de la Unidad de Talento Humano envía a revisión de la Secretaría General la prenómina con los soportes correspondientes. | W13: Preventivo | X13: 0.25 | Y13: Manual | Z13: 0.15 | AA13: 0.4 | AB13: Confiable | AC13: SI | AD13: Si la Secretaría General solicita algún ajuste frente a la prenómina, el responsable de la Unidad de Talento Humano valida, y ajusta, luego envía de nuevo la prenómina a la Secretaría General, previa cvalidación por parte del Jefe de la Unidad de Talento Humano | AE13: Sin documentar | AG13: 2 | AI13: 44562 | AJ13: 44925 | AK13: Seguimiento realizado | AL13: 44620 | AM13: N/A | AN13: 44681 | AO13: Durante el priemr trimestre se cumplió con el 100% de las activiades progrmadas en el plan de bienstra y en el plan de capacitación, el cual se refleja en informe presentado por la Ofician de Planeación . | AP13: r | AQ13: 44742 | AR13: Si la Secretaría General solicita algún ajuste frente a la prenómina, el responsable de la Unidad de Talento Humano valida, y ajusta, luego envía de nuevo la prenómina a la Secretaría General, para validación y visto bueno y así poder seguir con el debido proceso. | AS13: Carpeta física con prenomina enviada a Secretaria General con los soportes correspondientes | AT13: 44804 | AU13: Si la Secretaría General solicita algún ajuste frente a la prenómina, el responsable de la Unidad de Talento Humano valida, y ajusta, luego envía de nuevo la prenómina a la Secretaría General, para validación y visto bueno y así poder seguir con el debido proceso. | AV13: Carpeta física con prenomina enviada a Secretaria General con los soportes correspondientes | AW13: 44865 | AX13: Si la Secretaría General solicita algún ajuste frente a la prenómina, el responsable de la Unidad de Talento Humano valida, y ajusta, luego envía de nuevo la prenómina a la Secretaría General, para validación y visto bueno y así poder seguir con el debido proceso. | AY13: Carpeta física con prenomina enviada a Secretaria General con los soportes correspondientes | AZ13: 44926
A14: NO | B14: Gestión del Talento Humano | C14: Corrupción | D14: Talento humano | E14: Ejecución y administración de procesos | F14: 1. Intereses indebidos para la vinculación de talento humano. | G14: RC-08 | H14: Posibilidad de afectación reputacional por expedición de certificados experiencia e idoneidad sin el lleno de requisitos con el fin de beneficio propio o de un tercero | I14: 1. Investigaciones disciplinarias. | J14: Diaria | K14: 0 | L14: 0 | M14: NA | N14: 0 | O14: El riesgo afecta la imagen de algún área de la organización | P14: 0.2 | Q14: NA | R14: 0 | S14: NA | T14: Integridad | U14: Verificación de certificados de estudios y experiencia. | V14: El responsable de la Unidad de Talento Humano cada vez que se deba expedir un certificado de experiencia e idoneidad, debe verificar los certificados de estudios (tarjetas profesionales y diplomas presentadas por el aspirante), así como la experiencia relacionada con el objeto del contrato. | W14: Preventivo | X14: 0.25 | Y14: Manual | Z14: 0.15 | AA14: 0.4 | AB14: Confiable | AC14: NO | AE14: Sin documentar | AG14: 1 | AH14: Documentar el proceso de expedición de certificados de experiencia e idoneidad. | AI14: 44805 | AJ14: 44925 | AL14: 44620 | AN14: a | AO14: Se cumplió a corte 31 de enero de 2022. | AQ14: 44742 | AR14: El responsable de expedir un certificado de experiencia e idoneidad, verifica y valida los certificados de estudios y diplomas presentados y demas informacion que se deba tener en cuenta para realizar dichos certificados, para trabajadores oficiales y publicos se tiene en cuenta los manuales de funciones y en el caso de contratistas se tiene en cuenta la experiencia relacionada con el objeto del contrato. | AS14: Certificados expedidos | AT14: 44804 | AU14: El responsable de expedir un certificado de experiencia e idoneidad, verifica y valida los certificados de estudios y diplomas presentados y demas informacion que se deba tener en cuenta para realizar dichos certificados, para trabajadores oficiales y publicos se tiene en cuenta los manuales de funciones y en el caso de contratistas se tiene en cuenta la experiencia relacionada con el objeto del contrato. | AV14: Certificados expedidos | AW14: 44865 | AX14: El responsable de expedir un certificado de experiencia e idoneidad, verifica y valida los certificados de estudios y diplomas presentados y demas informacion que se deba tener en cuenta para realizar dichos certificados, para trabajadores oficiales y publicos se tiene en cuenta los manuales de funciones y en el caso de contratistas se tiene en cuenta la experiencia relacionada con el objeto del contrato. | AY14: Certificados expedidos | AZ14: 44926
